BEGIN:VCALENDAR
VERSION:2.0
PRODID:-//CAPM Club photo - ECPv6.15.17.1//NONSGML v1.0//EN
CALSCALE:GREGORIAN
METHOD:PUBLISH
X-WR-CALNAME:CAPM Club photo
X-ORIGINAL-URL:https://www.clubphoto-capm.ch
X-WR-CALDESC:Évènements pour CAPM Club photo
REFRESH-INTERVAL;VALUE=DURATION:PT1H
X-Robots-Tag:noindex
X-PUBLISHED-TTL:PT1H
BEGIN:VTIMEZONE
TZID:Europe/Zurich
BEGIN:DAYLIGHT
TZOFFSETFROM:+0100
TZOFFSETTO:+0200
TZNAME:CEST
DTSTART:20240331T010000
END:DAYLIGHT
BEGIN:STANDARD
TZOFFSETFROM:+0200
TZOFFSETTO:+0100
TZNAME:CET
DTSTART:20241027T010000
END:STANDARD
BEGIN:DAYLIGHT
TZOFFSETFROM:+0100
TZOFFSETTO:+0200
TZNAME:CEST
DTSTART:20250330T010000
END:DAYLIGHT
BEGIN:STANDARD
TZOFFSETFROM:+0200
TZOFFSETTO:+0100
TZNAME:CET
DTSTART:20251026T010000
END:STANDARD
BEGIN:DAYLIGHT
TZOFFSETFROM:+0100
TZOFFSETTO:+0200
TZNAME:CEST
DTSTART:20260329T010000
END:DAYLIGHT
BEGIN:STANDARD
TZOFFSETFROM:+0200
TZOFFSETTO:+0100
TZNAME:CET
DTSTART:20261025T010000
END:STANDARD
END:VTIMEZONE
BEGIN:VEVENT
DTSTART;TZID=Europe/Zurich:20250830T143000
DTEND;TZID=Europe/Zurich:20250830T163000
DTSTAMP:20260422T193511
CREATED:20250604T212232Z
LAST-MODIFIED:20250608T172143Z
UID:13488-1756564200-1756571400@www.clubphoto-capm.ch
SUMMARY:Sortie Skatepark de Plainpalais
DESCRIPTION:Prises de vues sportives au Skatepark de Plainpalais un samedi après-midi
URL:https://www.clubphoto-capm.ch/event/prises-de-vue-skatepark-de-plainpalais/
LOCATION:Plaine de plainpalais\, Av du Mail\, Genève\, Switzerland
CATEGORIES:Sorties
END:VEVENT
END:VCALENDAR