BEGIN:VCALENDAR
VERSION:2.0
PRODID:-//CAPM Club photo - ECPv6.15.17.1//NONSGML v1.0//EN
CALSCALE:GREGORIAN
METHOD:PUBLISH
X-ORIGINAL-URL:https://www.clubphoto-capm.ch
X-WR-CALDESC:Évènements pour CAPM Club photo
REFRESH-INTERVAL;VALUE=DURATION:PT1H
X-Robots-Tag:noindex
X-PUBLISHED-TTL:PT1H
BEGIN:VTIMEZONE
TZID:Europe/Zurich
BEGIN:DAYLIGHT
TZOFFSETFROM:+0100
TZOFFSETTO:+0200
TZNAME:CEST
DTSTART:20240331T010000
END:DAYLIGHT
BEGIN:STANDARD
TZOFFSETFROM:+0200
TZOFFSETTO:+0100
TZNAME:CET
DTSTART:20241027T010000
END:STANDARD
BEGIN:DAYLIGHT
TZOFFSETFROM:+0100
TZOFFSETTO:+0200
TZNAME:CEST
DTSTART:20250330T010000
END:DAYLIGHT
BEGIN:STANDARD
TZOFFSETFROM:+0200
TZOFFSETTO:+0100
TZNAME:CET
DTSTART:20251026T010000
END:STANDARD
BEGIN:DAYLIGHT
TZOFFSETFROM:+0100
TZOFFSETTO:+0200
TZNAME:CEST
DTSTART:20260329T010000
END:DAYLIGHT
BEGIN:STANDARD
TZOFFSETFROM:+0200
TZOFFSETTO:+0100
TZNAME:CET
DTSTART:20261025T010000
END:STANDARD
END:VTIMEZONE
BEGIN:VEVENT
DTSTART;TZID=Europe/Zurich:20250703T090000
DTEND;TZID=Europe/Zurich:20250703T230000
DTSTAMP:20260422T191430
CREATED:20250621T070930Z
LAST-MODIFIED:20250621T070930Z
UID:14324-1751533200-1751583600@www.clubphoto-capm.ch
SUMMARY:Meyrin les Bains: Divers activités
DESCRIPTION:La mairie nous demande de couvrir spécifiquement cette journée qui sera remplie d’activités bien différentes:\nDès 9h  la Marelle itinérante\n10h-11h30 Bibliothèque Lecture d’histoire\nDès 11h45 Assiette des Meyrinois gourmets\nDès 14h30 Transit: Flipper\, tournoi babyfoot & pétanque\n13h-15h30 Chez Gilberte – la maison meyrinoise\n14h-18h Maison Vaudagne – activités créatrices et jeux de société\n16h-19h Ludothèque de Meyrin – jouons ensemble\nDès 18h Fajitas au poulet\nDès 20h Musique – Jam session \n\nA vos appareils\, prêts\,… photographiez ! on vous attend nombreux pour couvrir cet évènement\n\nTous les jours un évènement différent et inspirant à photographier :\nVous trouverez le programme complet  https://meyrinlesbains.ch/ \n 
URL:https://www.clubphoto-capm.ch/event/meyrin-les-bains-divers-activites/
LOCATION:Centre commercial de Meyrin\, Av. de Feuillasse 24\, Meyrin\, 1217\, Switzerland
CATEGORIES:Sorties
END:VEVENT
BEGIN:VEVENT
DTSTART;TZID=Europe/Zurich:20250708T100000
DTEND;TZID=Europe/Zurich:20250708T203000
DTSTAMP:20260422T191431
CREATED:20250622T081417Z
LAST-MODIFIED:20250622T081531Z
UID:14427-1751968800-1752006600@www.clubphoto-capm.ch
SUMMARY:Meyrin-les-Bains
DESCRIPTION:La mairie nous invite à photographier cette journée: \n10h-11h30 Bibliothèque Lecture d’histoire  – Récoltes d’anecdotes\n13h-15h30 Chez Gilberte- la maison meyrinoise Accueil & Travaux d’aiguilles \n\nA vos appareils\, prêts\,… photographiez ! on vous attend nombreux pour couvrir cet évènement\n\nTous les jours un évènement différent et inspirant à photographier : Vous trouverez le programme complet https://meyrinlesbains.ch/ \n 
URL:https://www.clubphoto-capm.ch/event/meyrin-les-bains-2/
LOCATION:Centre commercial de Meyrin\, Av. de Feuillasse 24\, Meyrin\, 1217\, Switzerland
CATEGORIES:Sorties
END:VEVENT
BEGIN:VEVENT
DTSTART;TZID=Europe/Zurich:20250711T190000
DTEND;TZID=Europe/Zurich:20250711T220000
DTSTAMP:20260422T191431
CREATED:20250622T081931Z
LAST-MODIFIED:20250622T081948Z
UID:14430-1752260400-1752271200@www.clubphoto-capm.ch
SUMMARY:Meyrin-les-Bains : Erythrée
DESCRIPTION:19h Repas Erythréen accompagné de musique traditionnelle.\nAssociation des Erythréen-ne-s habitant Meyrin \n\nA vos appareils\, prêts\,… photographiez ! on vous attend nombreux pour couvrir cet évènement y.c. les vidéastes\n\nTous les jours un évènement différent et inspirant à photographier : Vous trouverez le programme complet https://meyrinlesbains.ch/
URL:https://www.clubphoto-capm.ch/event/meyrin-les-bains-erythree/
LOCATION:Centre commercial de Meyrin\, Av. de Feuillasse 24\, Meyrin\, 1217\, Switzerland
CATEGORIES:Sorties
END:VEVENT
BEGIN:VEVENT
DTSTART;TZID=Europe/Zurich:20250712T143000
DTEND;TZID=Europe/Zurich:20250712T233000
DTSTAMP:20260422T191431
CREATED:20250622T082615Z
LAST-MODIFIED:20250622T082615Z
UID:14433-1752330600-1752363000@www.clubphoto-capm.ch
SUMMARY:Meyrin-les-Bains : Journée de fermeture
DESCRIPTION:Dès 14h30 ALAM & Undertown – festivités 20ème édition\n17h Jays dance – Initiation & demo bachata\nDès 19h menu tropical & empanadas\nTirage au sort cadeaux surprises\nFanfare Revuelta\nDj Bogy \n \n\nA vos appareils\, prêts\,… photographiez ! on vous attend nombreux pour couvrir cet évènement\n\n 
URL:https://www.clubphoto-capm.ch/event/meyrin-les-bains-journee-de-fermeture/
LOCATION:Centre commercial de Meyrin\, Av. de Feuillasse 24\, Meyrin\, 1217\, Switzerland
CATEGORIES:Sorties
END:VEVENT
END:VCALENDAR