BEGIN:VCALENDAR
VERSION:2.0
PRODID:-//CAPM Club photo - ECPv6.15.17.1//NONSGML v1.0//EN
CALSCALE:GREGORIAN
METHOD:PUBLISH
X-WR-CALNAME:CAPM Club photo
X-ORIGINAL-URL:https://www.clubphoto-capm.ch
X-WR-CALDESC:Évènements pour CAPM Club photo
REFRESH-INTERVAL;VALUE=DURATION:PT1H
X-Robots-Tag:noindex
X-PUBLISHED-TTL:PT1H
BEGIN:VTIMEZONE
TZID:Europe/Zurich
BEGIN:DAYLIGHT
TZOFFSETFROM:+0100
TZOFFSETTO:+0200
TZNAME:CEST
DTSTART:20240331T010000
END:DAYLIGHT
BEGIN:STANDARD
TZOFFSETFROM:+0200
TZOFFSETTO:+0100
TZNAME:CET
DTSTART:20241027T010000
END:STANDARD
BEGIN:DAYLIGHT
TZOFFSETFROM:+0100
TZOFFSETTO:+0200
TZNAME:CEST
DTSTART:20250330T010000
END:DAYLIGHT
BEGIN:STANDARD
TZOFFSETFROM:+0200
TZOFFSETTO:+0100
TZNAME:CET
DTSTART:20251026T010000
END:STANDARD
BEGIN:DAYLIGHT
TZOFFSETFROM:+0100
TZOFFSETTO:+0200
TZNAME:CEST
DTSTART:20260329T010000
END:DAYLIGHT
BEGIN:STANDARD
TZOFFSETFROM:+0200
TZOFFSETTO:+0100
TZNAME:CET
DTSTART:20261025T010000
END:STANDARD
END:VTIMEZONE
BEGIN:VEVENT
DTSTART;TZID=Europe/Zurich:20250624T203000
DTEND;TZID=Europe/Zurich:20250624T213000
DTSTAMP:20260422T203801
CREATED:20250604T193141Z
LAST-MODIFIED:20250621T070010Z
UID:13794-1750797000-1750800600@www.clubphoto-capm.ch
SUMMARY:Sortie Photos Meyrin Les Bains
DESCRIPTION:Pour notre dernière séance hebdomadaire avant les vacances estivales\, nous vous proposons de nous retrouver à Meyrin les bains\, derrière le centre commercial.\nA 19h pour ceux qui veulent manger sur place – repas aux saveurs afghanes préparé par le CEFAM.\nou\n20h pour ceux qui veulent nous rejoindre pour boire un verre et faire des prises de vues.\nAnimation: Concert Musique municipale de Meyrin \nTous les jours un évènement différent et inspirant à photographier:\nVous trouverez le programme complet https://meyrinlesbains.ch/ \n 
URL:https://www.clubphoto-capm.ch/event/sortie-photos-meyrin-les-bains/
LOCATION:Centre commercial de Meyrin\, Av. de Feuillasse 24\, Meyrin\, 1217\, Switzerland
CATEGORIES:Sorties
END:VEVENT
BEGIN:VEVENT
DTSTART;TZID=Europe/Zurich:20250628T143000
DTEND;TZID=Europe/Zurich:20250628T230000
DTSTAMP:20260422T203801
CREATED:20250621T065526Z
LAST-MODIFIED:20250621T065849Z
UID:14318-1751121000-1751151600@www.clubphoto-capm.ch
SUMMARY:Meyrin-les-Bains journée Mémoires de Meyrin
DESCRIPTION:La mairie nous demande de couvrir spécifiquement cet évènement qui commence dès 14h30 Mémoires de Meyrin – jeux\, expo et visites sur l’histoire de Meyrin\, récolte d’anecdotes.\n15h-19h La Manivelle & Meyrinroule : réparation objets & vélos\nDès 18h Ca joue ou bien ? jeux de société ados & adultes\nDès 19h Kalacharam Thalis indiens\nConcert musique indienne\nDès 21h Ciné plein air « Une journée » de Jacob Berger \n=> A vos appareils\, prêts\,… photographiez ! on vous attend nombreux pour couvrir cet évènement \nTous les jours un évènement différent et inspirant à photographier :\nVous trouverez le programme complet https://meyrinlesbains.ch/
URL:https://www.clubphoto-capm.ch/event/meyrin-les-bains-journee-memoires-de-meyrin/
CATEGORIES:Sorties
END:VEVENT
END:VCALENDAR