BEGIN:VCALENDAR
VERSION:2.0
PRODID:-//CAPM Club photo - ECPv6.15.17.1//NONSGML v1.0//EN
CALSCALE:GREGORIAN
METHOD:PUBLISH
X-ORIGINAL-URL:https://www.clubphoto-capm.ch
X-WR-CALDESC:Évènements pour CAPM Club photo
REFRESH-INTERVAL;VALUE=DURATION:PT1H
X-Robots-Tag:noindex
X-PUBLISHED-TTL:PT1H
BEGIN:VTIMEZONE
TZID:Europe/Zurich
BEGIN:DAYLIGHT
TZOFFSETFROM:+0100
TZOFFSETTO:+0200
TZNAME:CEST
DTSTART:20240331T010000
END:DAYLIGHT
BEGIN:STANDARD
TZOFFSETFROM:+0200
TZOFFSETTO:+0100
TZNAME:CET
DTSTART:20241027T010000
END:STANDARD
BEGIN:DAYLIGHT
TZOFFSETFROM:+0100
TZOFFSETTO:+0200
TZNAME:CEST
DTSTART:20250330T010000
END:DAYLIGHT
BEGIN:STANDARD
TZOFFSETFROM:+0200
TZOFFSETTO:+0100
TZNAME:CET
DTSTART:20251026T010000
END:STANDARD
BEGIN:DAYLIGHT
TZOFFSETFROM:+0100
TZOFFSETTO:+0200
TZNAME:CEST
DTSTART:20260329T010000
END:DAYLIGHT
BEGIN:STANDARD
TZOFFSETFROM:+0200
TZOFFSETTO:+0100
TZNAME:CET
DTSTART:20261025T010000
END:STANDARD
END:VTIMEZONE
BEGIN:VEVENT
DTSTART;TZID=Europe/Zurich:20251007T200000
DTEND;TZID=Europe/Zurich:20251007T220000
DTSTAMP:20260422T195522
CREATED:20250811T210723Z
LAST-MODIFIED:20250811T210914Z
UID:14547-1759867200-1759874400@www.clubphoto-capm.ch
SUMMARY:Partage d'expérience sur les photos de rue
DESCRIPTION:Comme indiqué dans le titre de l’évènement\, il s’agit d’une soirée de partage d’expérience sur les photos de rue ou prises à la volée.\nIl s’agit donc d’un débat sur cette thématique dont le but est que chaque membre partage son expérience.\n=> Merci d’apporter vos photos comme support pour illustrer vos arguments.
URL:https://www.clubphoto-capm.ch/event/partage-dexperience-sur-les-photos-de-rue/
LOCATION:Monthoux\, Rue Virginio-Malnati 44\, Meyrin\, Genève\, 1217\, Switzerland
CATEGORIES:Séance hebdo
END:VEVENT
BEGIN:VEVENT
DTSTART;TZID=Europe/Zurich:20251014T200000
DTEND;TZID=Europe/Zurich:20251014T220000
DTSTAMP:20260422T195522
CREATED:20250930T104810Z
LAST-MODIFIED:20250930T104810Z
UID:14551-1760472000-1760479200@www.clubphoto-capm.ch
SUMMARY:Partage de photos sur House Of Paint à Vernier ou la sortie au Palais Idéal du Facteur Cheval
DESCRIPTION:Le concept est de choisir quelques clichés (6 par photographe) basés sur l’un de ces sujets ou une combinaison des deux\, puis de partager votre expérience en matière de prise de vue..
URL:https://www.clubphoto-capm.ch/event/partage-de-photos-sur-house-of-paint-a-vernier-ou-la-sortie-au-palais-ideal-du-facteur-cheval/
LOCATION:Monthoux\, Rue Virginio-Malnati 44\, Meyrin\, Genève\, 1217\, Switzerland
CATEGORIES:Séance hebdo
END:VEVENT
BEGIN:VEVENT
DTSTART;TZID=Europe/Zurich:20251028T200000
DTEND;TZID=Europe/Zurich:20251028T220000
DTSTAMP:20260422T195522
CREATED:20250808T183402Z
LAST-MODIFIED:20250808T183402Z
UID:14543-1761681600-1761688800@www.clubphoto-capm.ch
SUMMARY:Séance hebdo "Trois Photos" dont une sur le thème photo architecturale
DESCRIPTION:Présentation de 3 photos dont une sur le thème photo architecturale – pour les participants à la sortie au Palais Idéal du Facteur Cheval c’est l’occasion de présenter vos photos de cette journée.
URL:https://www.clubphoto-capm.ch/event/seance-hebdo-trois-photos-dont-une-sur-le-theme-photo-architecturale/
LOCATION:Monthoux\, Rue Virginio-Malnati 44\, Meyrin\, Genève\, 1217\, Switzerland
CATEGORIES:Séance hebdo
END:VEVENT
END:VCALENDAR