BEGIN:VCALENDAR
VERSION:2.0
PRODID:-//CAPM Club photo - ECPv6.15.17.1//NONSGML v1.0//EN
CALSCALE:GREGORIAN
METHOD:PUBLISH
X-WR-CALNAME:CAPM Club photo
X-ORIGINAL-URL:https://www.clubphoto-capm.ch
X-WR-CALDESC:Évènements pour CAPM Club photo
REFRESH-INTERVAL;VALUE=DURATION:PT1H
X-Robots-Tag:noindex
X-PUBLISHED-TTL:PT1H
BEGIN:VTIMEZONE
TZID:Europe/Zurich
BEGIN:DAYLIGHT
TZOFFSETFROM:+0100
TZOFFSETTO:+0200
TZNAME:CEST
DTSTART:20240331T010000
END:DAYLIGHT
BEGIN:STANDARD
TZOFFSETFROM:+0200
TZOFFSETTO:+0100
TZNAME:CET
DTSTART:20241027T010000
END:STANDARD
BEGIN:DAYLIGHT
TZOFFSETFROM:+0100
TZOFFSETTO:+0200
TZNAME:CEST
DTSTART:20250330T010000
END:DAYLIGHT
BEGIN:STANDARD
TZOFFSETFROM:+0200
TZOFFSETTO:+0100
TZNAME:CET
DTSTART:20251026T010000
END:STANDARD
BEGIN:DAYLIGHT
TZOFFSETFROM:+0100
TZOFFSETTO:+0200
TZNAME:CEST
DTSTART:20260329T010000
END:DAYLIGHT
BEGIN:STANDARD
TZOFFSETFROM:+0200
TZOFFSETTO:+0100
TZNAME:CET
DTSTART:20261025T010000
END:STANDARD
END:VTIMEZONE
BEGIN:VEVENT
DTSTART;TZID=Europe/Zurich:20250902T200000
DTEND;TZID=Europe/Zurich:20250902T213000
DTSTAMP:20260422T212939
CREATED:20250604T195659Z
LAST-MODIFIED:20250808T180017Z
UID:13807-1756843200-1756848600@www.clubphoto-capm.ch
SUMMARY:Création des groupes concours Münsingen 2026 et Présentation projets pour l'année à venir
DESCRIPTION:Nous demandons à chaque membre d’apporter une idée de projet photo pour participer au concours Münsingen 2026 – thème « Couleurs de la vie »\nVos réflexions peuvent être imagées avec 4 -5 photos que vous aurez prises ou trouvées sur le net.\n=> Durant cette soirée\, nous créerons 1 ou 2 groupes en vue de préparer le tableau final qui sera présenté au concours. \nLe groupe vous présentera qqs projets pour l’année à venir et la création de groupes pour mener à bien ces projets si intérêt.\n=> N’hésitez pas à partager vos idées ou thématiques à aborder lors des soirées club avec Dario\, Vincent\, Max et Alma \n 
URL:https://www.clubphoto-capm.ch/event/creation-des-groupes-concours-munsingen-2026-theme-couleurs-de-la-vie/
LOCATION:Monthoux\, Rue Virginio-Malnati 44\, Meyrin\, Genève\, 1217\, Switzerland
CATEGORIES:Séance hebdo
END:VEVENT
BEGIN:VEVENT
DTSTART;TZID=Europe/Zurich:20250909T200000
DTEND;TZID=Europe/Zurich:20250909T220000
DTSTAMP:20260422T212939
CREATED:20250808T180755Z
LAST-MODIFIED:20250808T180755Z
UID:14529-1757448000-1757455200@www.clubphoto-capm.ch
SUMMARY:Catalogue lightroom du club et encadrement pour le tirage papier
DESCRIPTION:Kennedy nous présentera le catalogue actuel lightroom du club – comment le rendre uniforme et faciliter les recherches. \nIl présentera aussi comment encadrer une image pour le tirage papier.
URL:https://www.clubphoto-capm.ch/event/catalogue-lightroom-du-club-et-encadrement-pour-le-tirage-papier/
LOCATION:Monthoux\, Rue Virginio-Malnati 44\, Meyrin\, Genève\, 1217\, Switzerland
CATEGORIES:Séance hebdo
END:VEVENT
BEGIN:VEVENT
DTSTART;TZID=Europe/Zurich:20250916T200000
DTEND;TZID=Europe/Zurich:20250916T223000
DTSTAMP:20260422T212939
CREATED:20250808T181131Z
LAST-MODIFIED:20250808T181131Z
UID:14531-1758052800-1758061800@www.clubphoto-capm.ch
SUMMARY:Présentation Pop art / street art
DESCRIPTION:Dario et Max nous ferons une présentation sur le pop art / street art avec des photos à l’appui.
URL:https://www.clubphoto-capm.ch/event/presentation-pop-art-street-art/
LOCATION:Monthoux\, Rue Virginio-Malnati 44\, Meyrin\, Genève\, 1217\, Switzerland
CATEGORIES:Séance hebdo
END:VEVENT
BEGIN:VEVENT
DTSTART;TZID=Europe/Zurich:20250923T200000
DTEND;TZID=Europe/Zurich:20250923T220000
DTSTAMP:20260422T212939
CREATED:20250808T182026Z
LAST-MODIFIED:20250808T182026Z
UID:14533-1758657600-1758664800@www.clubphoto-capm.ch
SUMMARY:Partage d'expérience sur les photos architecturales
DESCRIPTION:Comme indiqué dans le titre de l’évènement\, il s’agit d’une soirée de partage d’expérience sur les photos architecturales.\nIl s’agit donc d’un débat sur cette thématique dont le but est que chaque membre partage son expérience et conseils sur les prises de vue d’architecture.\n=> Merci d’apporter vos photos comme support pour illustrer vos arguments.
URL:https://www.clubphoto-capm.ch/event/partage-dexperience-sur-les-photos-architecturales/
LOCATION:Monthoux\, Rue Virginio-Malnati 44\, Meyrin\, Genève\, 1217\, Switzerland
CATEGORIES:Séance hebdo
END:VEVENT
BEGIN:VEVENT
DTSTART;TZID=Europe/Zurich:20250930T200000
DTEND;TZID=Europe/Zurich:20250930T220000
DTSTAMP:20260422T212939
CREATED:20250808T182740Z
LAST-MODIFIED:20250808T183015Z
UID:14540-1759262400-1759269600@www.clubphoto-capm.ch
SUMMARY:Séance hebdo "Trois Photos" dont une sur le thème de Street Art
DESCRIPTION:Présentation de 3 photos dont une sur le thème de Street Art
URL:https://www.clubphoto-capm.ch/event/3-photos-dont-une-sur-le-theme-de-street-art/
LOCATION:Monthoux\, Rue Virginio-Malnati 44\, Meyrin\, Genève\, 1217\, Switzerland
CATEGORIES:Séance hebdo
END:VEVENT
END:VCALENDAR