BEGIN:VCALENDAR
VERSION:2.0
PRODID:-//CAPM Club photo - ECPv6.15.17.1//NONSGML v1.0//EN
CALSCALE:GREGORIAN
METHOD:PUBLISH
X-ORIGINAL-URL:https://www.clubphoto-capm.ch
X-WR-CALDESC:Évènements pour CAPM Club photo
REFRESH-INTERVAL;VALUE=DURATION:PT1H
X-Robots-Tag:noindex
X-PUBLISHED-TTL:PT1H
BEGIN:VTIMEZONE
TZID:Europe/Zurich
BEGIN:DAYLIGHT
TZOFFSETFROM:+0100
TZOFFSETTO:+0200
TZNAME:CEST
DTSTART:20240331T010000
END:DAYLIGHT
BEGIN:STANDARD
TZOFFSETFROM:+0200
TZOFFSETTO:+0100
TZNAME:CET
DTSTART:20241027T010000
END:STANDARD
BEGIN:DAYLIGHT
TZOFFSETFROM:+0100
TZOFFSETTO:+0200
TZNAME:CEST
DTSTART:20250330T010000
END:DAYLIGHT
BEGIN:STANDARD
TZOFFSETFROM:+0200
TZOFFSETTO:+0100
TZNAME:CET
DTSTART:20251026T010000
END:STANDARD
BEGIN:DAYLIGHT
TZOFFSETFROM:+0100
TZOFFSETTO:+0200
TZNAME:CEST
DTSTART:20260329T010000
END:DAYLIGHT
BEGIN:STANDARD
TZOFFSETFROM:+0200
TZOFFSETTO:+0100
TZNAME:CET
DTSTART:20261025T010000
END:STANDARD
END:VTIMEZONE
BEGIN:VEVENT
DTSTART;TZID=Europe/Zurich:20250603T200000
DTEND;TZID=Europe/Zurich:20250603T220000
DTSTAMP:20260424T102729
CREATED:20250603T213543Z
LAST-MODIFIED:20250426T152334Z
UID:13497-1748980800-1748988000@www.clubphoto-capm.ch
SUMMARY:Impression\, Encadrement\, Studio
DESCRIPTION:Soirée au local – Répartition des membres présents sur 3 ateliers bien distincts: Impression – Encadrement – Studio \nAnimateurs: Kennedy\, Paul\, Marco et Vincent
URL:https://www.clubphoto-capm.ch/event/impression-encadrement-studio/
LOCATION:Monthoux\, Rue Virginio-Malnati 44\, Meyrin\, Genève\, 1217\, Switzerland
CATEGORIES:Séance hebdo
END:VEVENT
BEGIN:VEVENT
DTSTART;TZID=Europe/Zurich:20250610T200000
DTEND;TZID=Europe/Zurich:20250610T213000
DTSTAMP:20260424T102729
CREATED:20250601T183013Z
LAST-MODIFIED:20250608T171725Z
UID:13789-1749585600-1749591000@www.clubphoto-capm.ch
SUMMARY:Reproduction de Photos et introduction à l'impression
DESCRIPTION:Tirer un cliché à partir du banc qu’il y a au club sur la base d’une image ou d’un dessin. \nPrésentateurs: Vincent et Francis \nFrancis nous fera une introduction à l’impression avec le tirage d’une photo présentée lors d’une soirée 3 photos.
URL:https://www.clubphoto-capm.ch/event/reproduction-de-photos/
LOCATION:Monthoux\, Rue Virginio-Malnati 44\, Meyrin\, Genève\, 1217\, Switzerland
CATEGORIES:Séance hebdo
END:VEVENT
BEGIN:VEVENT
DTSTART;TZID=Europe/Zurich:20250617T200000
DTEND;TZID=Europe/Zurich:20250617T213000
DTSTAMP:20260424T102729
CREATED:20250604T185345Z
LAST-MODIFIED:20250605T174355Z
UID:13792-1750190400-1750195800@www.clubphoto-capm.ch
SUMMARY:Séance hebdo "Trois Photos"
DESCRIPTION:Présentation de 3 photos dont 1 sur un des thèmes abordés depuis le début d’année [Règles des tiers\, explozoom\, photos de sport\, lightpainting\, éclairages et ombres\,….] \n 
URL:https://www.clubphoto-capm.ch/event/seance-hebdo-trois-photos-4/
LOCATION:Monthoux\, Rue Virginio-Malnati 44\, Meyrin\, Genève\, 1217\, Switzerland
CATEGORIES:Séance hebdo
END:VEVENT
END:VCALENDAR