BEGIN:VCALENDAR
VERSION:2.0
PRODID:-//CAPM Club photo - ECPv6.15.17.1//NONSGML v1.0//EN
CALSCALE:GREGORIAN
METHOD:PUBLISH
X-WR-CALNAME:CAPM Club photo
X-ORIGINAL-URL:https://www.clubphoto-capm.ch
X-WR-CALDESC:Évènements pour CAPM Club photo
REFRESH-INTERVAL;VALUE=DURATION:PT1H
X-Robots-Tag:noindex
X-PUBLISHED-TTL:PT1H
BEGIN:VTIMEZONE
TZID:Europe/Zurich
BEGIN:DAYLIGHT
TZOFFSETFROM:+0100
TZOFFSETTO:+0200
TZNAME:CEST
DTSTART:20240331T010000
END:DAYLIGHT
BEGIN:STANDARD
TZOFFSETFROM:+0200
TZOFFSETTO:+0100
TZNAME:CET
DTSTART:20241027T010000
END:STANDARD
BEGIN:DAYLIGHT
TZOFFSETFROM:+0100
TZOFFSETTO:+0200
TZNAME:CEST
DTSTART:20250330T010000
END:DAYLIGHT
BEGIN:STANDARD
TZOFFSETFROM:+0200
TZOFFSETTO:+0100
TZNAME:CET
DTSTART:20251026T010000
END:STANDARD
BEGIN:DAYLIGHT
TZOFFSETFROM:+0100
TZOFFSETTO:+0200
TZNAME:CEST
DTSTART:20260329T010000
END:DAYLIGHT
BEGIN:STANDARD
TZOFFSETFROM:+0200
TZOFFSETTO:+0100
TZNAME:CET
DTSTART:20261025T010000
END:STANDARD
END:VTIMEZONE
BEGIN:VEVENT
DTSTART;TZID=Europe/Zurich:20250107T200000
DTEND;TZID=Europe/Zurich:20250107T220000
DTSTAMP:20260424T191510
CREATED:20250107T190050Z
LAST-MODIFIED:20250125T081729Z
UID:13111-1736280000-1736287200@www.clubphoto-capm.ch
SUMMARY:Groupe photo - séance hebdo
DESCRIPTION:Reprise des activités. Règle des tiers / cadrage /interprétation d’images. Dario et Max
URL:https://www.clubphoto-capm.ch/event/groupe-photo-seance-hebdo/
LOCATION:Monthoux\, Rue Virginio-Malnati 44\, Meyrin\, Genève\, 1217\, Switzerland
CATEGORIES:Séance hebdo
ATTACH;FMTTYPE=image/jpeg:https://www.clubphoto-capm.ch/wp-content/uploads/2024/12/CAPM_Activity.jpg
END:VEVENT
BEGIN:VEVENT
DTSTART;TZID=Europe/Zurich:20250114T200000
DTEND;TZID=Europe/Zurich:20250114T220000
DTSTAMP:20260424T191510
CREATED:20250102T173733Z
LAST-MODIFIED:20250125T082344Z
UID:13113-1736884800-1736892000@www.clubphoto-capm.ch
SUMMARY:Groupe photo - séance hebdo
DESCRIPTION:Par Kennedy. Présentation de la méthode pour une belle impression.
URL:https://www.clubphoto-capm.ch/event/groupe-photo-seance-hebdo-2/
LOCATION:Monthoux\, Rue Virginio-Malnati 44\, Meyrin\, Genève\, 1217\, Switzerland
CATEGORIES:Séance hebdo
ATTACH;FMTTYPE=image/jpeg:https://www.clubphoto-capm.ch/wp-content/uploads/2024/12/CAPM_Activity.jpg
END:VEVENT
BEGIN:VEVENT
DTSTART;TZID=Europe/Zurich:20250128T200000
DTEND;TZID=Europe/Zurich:20250128T220000
DTSTAMP:20260424T191510
CREATED:20250125T190001Z
LAST-MODIFIED:20250126T192256Z
UID:13239-1738094400-1738101600@www.clubphoto-capm.ch
SUMMARY:Séance "Trois photos"
DESCRIPTION:Séance 3 photos. Présentation par les membres de 3 photos sur le thème AMBIANCE FESTIVE.
URL:https://www.clubphoto-capm.ch/event/groupe-photo-seance-hebdo-3-photos/
LOCATION:Monthoux\, Rue Virginio-Malnati 44\, Meyrin\, Genève\, 1217\, Switzerland
CATEGORIES:Séance hebdo
ATTACH;FMTTYPE=image/jpeg:https://www.clubphoto-capm.ch/wp-content/uploads/2024/12/CAPM_Activity.jpg
END:VEVENT
END:VCALENDAR